BEGIN:VCALENDAR
VERSION:2.0
PRODID:-//Groupe LYNX - ECPv6.15.16//NONSGML v1.0//EN
CALSCALE:GREGORIAN
METHOD:PUBLISH
X-WR-CALNAME:Groupe LYNX
X-ORIGINAL-URL:https://lynxsecurite.com
X-WR-CALDESC:Évènements pour Groupe LYNX
REFRESH-INTERVAL;VALUE=DURATION:PT1H
X-Robots-Tag:noindex
X-PUBLISHED-TTL:PT1H
BEGIN:VTIMEZONE
TZID:Europe/Paris
BEGIN:DAYLIGHT
TZOFFSETFROM:+0100
TZOFFSETTO:+0200
TZNAME:CEST
DTSTART:20250330T010000
END:DAYLIGHT
BEGIN:STANDARD
TZOFFSETFROM:+0200
TZOFFSETTO:+0100
TZNAME:CET
DTSTART:20251026T010000
END:STANDARD
BEGIN:DAYLIGHT
TZOFFSETFROM:+0100
TZOFFSETTO:+0200
TZNAME:CEST
DTSTART:20260329T010000
END:DAYLIGHT
BEGIN:STANDARD
TZOFFSETFROM:+0200
TZOFFSETTO:+0100
TZNAME:CET
DTSTART:20261025T010000
END:STANDARD
BEGIN:DAYLIGHT
TZOFFSETFROM:+0100
TZOFFSETTO:+0200
TZNAME:CEST
DTSTART:20270328T010000
END:DAYLIGHT
BEGIN:STANDARD
TZOFFSETFROM:+0200
TZOFFSETTO:+0100
TZNAME:CET
DTSTART:20271031T010000
END:STANDARD
END:VTIMEZONE
BEGIN:VEVENT
DTSTART;TZID=Europe/Paris:20260302T080000
DTEND;TZID=Europe/Paris:20260305T170000
DTSTAMP:20260420T113054
CREATED:20260224T103507Z
LAST-MODIFIED:20260224T103507Z
UID:11724-1772438400-1772730000@lynxsecurite.com
SUMMARY:MAC SSIAP 2
DESCRIPTION:FORMATION MAC SSIAP2
URL:https://lynxsecurite.com/event/mac-ssiap-2/
END:VEVENT
BEGIN:VEVENT
DTSTART;TZID=Europe/Paris:20260302T080000
DTEND;TZID=Europe/Paris:20260306T170000
DTSTAMP:20260420T113055
CREATED:20260224T103954Z
LAST-MODIFIED:20260224T103954Z
UID:11726-1772438400-1772816400@lynxsecurite.com
SUMMARY:MAC SSIAP 3
DESCRIPTION:La formation SSIAP 3 recyclage permet aux chefs de service de sécurité incendie de maintenir leurs compétences et de mettre à jour leurs connaissances
URL:https://lynxsecurite.com/event/mac-ssiap-3/
LOCATION:LYNXTITUT\, 3 chemin de la moulinotte\, Saint Loubès\, 33450\, France
END:VEVENT
BEGIN:VEVENT
DTSTART;TZID=Europe/Paris:20260311T080000
DTEND;TZID=Europe/Paris:20260313T170000
DTSTAMP:20260420T113055
CREATED:20260224T104312Z
LAST-MODIFIED:20260224T104312Z
UID:11728-1773216000-1773421200@lynxsecurite.com
SUMMARY:ACVS1
DESCRIPTION:La formation d’ACVS\, s’adresse aux agents chargés des contrôles et vérifications de sûreté
URL:https://lynxsecurite.com/event/acvs1/
LOCATION:LYNXTITUT\, 3 chemin de la moulinotte\, Saint Loubès\, 33450\, France
END:VEVENT
BEGIN:VEVENT
DTSTART;TZID=Europe/Paris:20260313T080000
DTEND;TZID=Europe/Paris:20260331T170000
DTSTAMP:20260420T113055
CREATED:20260224T104413Z
LAST-MODIFIED:20260224T104450Z
UID:11730-1773388800-1774976400@lynxsecurite.com
SUMMARY:TFP APS
DESCRIPTION:Titre à finalité professionnelle d’agent de prévention et de sécurité (TFP APS) · Durée : 175 heures (hors examen) soit 25 jours
URL:https://lynxsecurite.com/event/tfp-aps/
LOCATION:LYNXTITUT\, 3 chemin de la moulinotte\, Saint Loubès\, 33450\, France
END:VEVENT
BEGIN:VEVENT
DTSTART;VALUE=DATE:20260316
DTEND;VALUE=DATE:20260317
DTSTAMP:20260420T113055
CREATED:20260224T102455Z
LAST-MODIFIED:20260224T102455Z
UID:11717-1773619200-1773705599@lynxsecurite.com
SUMMARY:MAC SST
DESCRIPTION:Formation MAC SST – 1 jour
URL:https://lynxsecurite.com/event/mac-sst/
LOCATION:LYNXTITUT\, 3 chemin de la moulinotte\, Saint Loubès\, 33450\, France
END:VEVENT
BEGIN:VEVENT
DTSTART;TZID=Europe/Paris:20260317T080000
DTEND;TZID=Europe/Paris:20260320T170000
DTSTAMP:20260420T113055
CREATED:20260224T102803Z
LAST-MODIFIED:20260224T102803Z
UID:11720-1773734400-1774026000@lynxsecurite.com
SUMMARY:MAC APS
DESCRIPTION:MAC APS – Agent de prévention et de sécurité \nDurée : 34 heures soit 4 jours \n 
URL:https://lynxsecurite.com/event/mac-aps/
LOCATION:LYNXTITUT\, 3 chemin de la moulinotte\, Saint Loubès\, 33450\, France
END:VEVENT
BEGIN:VEVENT
DTSTART;TZID=Europe/Paris:20260323T080000
DTEND;TZID=Europe/Paris:20260325T170000
DTSTAMP:20260420T113055
CREATED:20260224T102904Z
LAST-MODIFIED:20260224T102904Z
UID:11722-1774252800-1774458000@lynxsecurite.com
SUMMARY:MAC SSIAP 1
DESCRIPTION:Formation MAC SSIAP 1. Recyclage Agent de Service sécurité incendie et assistance à personne. Durée : 14 heures
URL:https://lynxsecurite.com/event/mac-ssiap-1/
LOCATION:LYNXTITUT\, 3 chemin de la moulinotte\, Saint Loubès\, 33450\, France
END:VEVENT
END:VCALENDAR